BEGIN:VCALENDAR
VERSION:2.0
PRODID:-//ITGL - ECPv4.9.8//NONSGML v1.0//EN
CALSCALE:GREGORIAN
METHOD:PUBLISH
X-WR-CALNAME:ITGL
X-ORIGINAL-URL:https://itgl.lu
X-WR-CALDESC:Veranstaltungen im ITGL
BEGIN:VTIMEZONE
TZID:Europe/Helsinki
BEGIN:DAYLIGHT
TZOFFSETFROM:+0200
TZOFFSETTO:+0300
TZNAME:EEST
DTSTART:20190331T010000
END:DAYLIGHT
BEGIN:STANDARD
TZOFFSETFROM:+0300
TZOFFSETTO:+0200
TZNAME:EET
DTSTART:20191027T010000
END:STANDARD
END:VTIMEZONE
BEGIN:VEVENT
DTSTART;TZID="Europe/Helsinki":20190702T140000
DTEND;TZID="Europe/Helsinki":20190702T160000
DTSTAMP:20200426T233505
CREATED:20180729T114125Z
LAST-MODIFIED:20180729T114125Z
UID:3383-1562076000-1562083200@itgl.lu
SUMMARY:Sprechstunde
DESCRIPTION:Einzelgespräche für Jugendliche\, junge Erwachsene und/oder deren Eltern. Wenn nur möglich bitten wir einen Termin zu vereinbaren. \nEntretiens individuels pour jeunes\, jeunes adultes et/ou leurs parents. Tant que possible nous recommandons la prise d’un rendez-vous. \n
URL:https://itgl.lu/event/sprechstunde-42/
LOCATION:Centre psycho-social et d’accompagnement scolaires ( CePAS )\, 58\, boulevard Grand-Duchesse Charlotte\, Luxembourg\, L-1330\, Luxemburg
CATEGORIES:Sprechstunde
END:VEVENT
END:VCALENDAR