BEGIN:VCALENDAR
VERSION:2.0
PRODID:-//ITGL - ECPv5.6.0//NONSGML v1.0//EN
CALSCALE:GREGORIAN
METHOD:PUBLISH
X-WR-CALNAME:ITGL
X-ORIGINAL-URL:https://itgl.lu
X-WR-CALDESC:Veranstaltungen für ITGL
BEGIN:VTIMEZONE
TZID:Europe/Helsinki
BEGIN:DAYLIGHT
TZOFFSETFROM:+0200
TZOFFSETTO:+0300
TZNAME:EEST
DTSTART:20190331T010000
END:DAYLIGHT
BEGIN:STANDARD
TZOFFSETFROM:+0300
TZOFFSETTO:+0200
TZNAME:EET
DTSTART:20191027T010000
END:STANDARD
END:VTIMEZONE
BEGIN:VEVENT
DTSTART;TZID=Europe/Helsinki:20190619T140000
DTEND;TZID=Europe/Helsinki:20190619T160000
DTSTAMP:20211008T105544
CREATED:20180729T113743Z
LAST-MODIFIED:20180729T113743Z
UID:3377-1560952800-1560960000@itgl.lu
SUMMARY:Sprechstunde
DESCRIPTION:Einzelgespräche für Jugendliche\, junge Erwachsene und/oder deren Eltern. Wenn nur möglich bitten wir einen Termin zu vereinbaren. \nEntretiens individuels pour jeunes\, jeunes adultes et/ou leurs parents. Tant que possible nous recommandons la prise d’un rendez-vous.
URL:https://itgl.lu/event/sprechstunde-41-2-2-2-2-2-2-2-3-3-3-2-2-3-2-2-2-2-3-3-2-2-2-2-2-2-2-2-2-2-3-2-2-2-2-2/
LOCATION:Centre psycho-social et d’accompagnement scolaires ( CePAS )\, 58\, boulevard Grand-Duchesse Charlotte\, Luxembourg\, L-1330\, Luxemburg
CATEGORIES:Sprechstunde
END:VEVENT
END:VCALENDAR