BEGIN:VCALENDAR
VERSION:2.0
PRODID:-//ITGL - ECPv5.6.0//NONSGML v1.0//EN
CALSCALE:GREGORIAN
METHOD:PUBLISH
X-WR-CALNAME:ITGL
X-ORIGINAL-URL:https://itgl.lu
X-WR-CALDESC:Veranstaltungen für ITGL
BEGIN:VTIMEZONE
TZID:Europe/Helsinki
BEGIN:DAYLIGHT
TZOFFSETFROM:+0200
TZOFFSETTO:+0300
TZNAME:EEST
DTSTART:20170326T010000
END:DAYLIGHT
BEGIN:STANDARD
TZOFFSETFROM:+0300
TZOFFSETTO:+0200
TZNAME:EET
DTSTART:20171029T010000
END:STANDARD
END:VTIMEZONE
BEGIN:VEVENT
DTSTART;TZID=Europe/Helsinki:20170426T140000
DTEND;TZID=Europe/Helsinki:20170426T160000
DTSTAMP:20211009T065957
CREATED:20160924T124710Z
LAST-MODIFIED:20160924T124710Z
UID:2601-1493215200-1493222400@itgl.lu
SUMMARY:Sprechstunde
DESCRIPTION:Einzelgespräche für Jugendliche\, junge Erwachsene und/oder deren Eltern. Wenn nur möglich bitten wir einen Termin zu vereinbaren. \nEntretiens individuels pour jeunes\, jeunes adultes et/ou leurs parents. Tant que possible nous recommandons la prise d’un rendez-vous.
URL:https://itgl.lu/event/sprechstunde-38/
LOCATION:Centre psycho-social et d’accompagnement scolaires ( CePAS )\, 58\, boulevard Grand-Duchesse Charlotte\, Luxembourg\, L-1330\, Luxemburg
CATEGORIES:Sprechstunde
END:VEVENT
END:VCALENDAR