BEGIN:VCALENDAR
VERSION:2.0
PRODID:-//ITGL - ECPv4.9.8//NONSGML v1.0//EN
CALSCALE:GREGORIAN
METHOD:PUBLISH
X-WR-CALNAME:ITGL
X-ORIGINAL-URL:https://itgl.lu
X-WR-CALDESC:Veranstaltungen im ITGL
BEGIN:VTIMEZONE
TZID:Europe/Luxembourg
BEGIN:DAYLIGHT
TZOFFSETFROM:+0100
TZOFFSETTO:+0200
TZNAME:CEST
DTSTART:20150329T010000
END:DAYLIGHT
BEGIN:STANDARD
TZOFFSETFROM:+0200
TZOFFSETTO:+0100
TZNAME:CET
DTSTART:20151025T010000
END:STANDARD
END:VTIMEZONE
BEGIN:VEVENT
DTSTART;TZID="Europe/Luxembourg":20150618T140000
DTEND;TZID="Europe/Luxembourg":20150618T160000
DTSTAMP:20200426T233116
CREATED:20150503T074356Z
LAST-MODIFIED:20150503T074937Z
UID:1233-1434636000-1434643200@itgl.lu
SUMMARY:Sprechstunde
DESCRIPTION:Einzelgespräche für Jugendliche\, junge Erwachsene und/oder deren Eltern. Ohne Termin möglich\, Terminabsprache jedoch empfehlenswert. \nEntretiens individuels pour jeunes\, jeunes adultes et/ou leurs parents\, avec ou sans rendez-vous. Il est néanmoins recommandé de prendre rendez-vous. \n
URL:https://itgl.lu/event/sprechstunde-3/
CATEGORIES:Sprechstunde
END:VEVENT
END:VCALENDAR