BEGIN:VCALENDAR
VERSION:2.0
PRODID:-//ITGL - ECPv4.9.8//NONSGML v1.0//EN
CALSCALE:GREGORIAN
METHOD:PUBLISH
X-WR-CALNAME:ITGL
X-ORIGINAL-URL:https://itgl.lu
X-WR-CALDESC:Veranstaltungen im ITGL
BEGIN:VTIMEZONE
TZID:Europe/Luxembourg
BEGIN:DAYLIGHT
TZOFFSETFROM:+0100
TZOFFSETTO:+0200
TZNAME:CEST
DTSTART:20150329T010000
END:DAYLIGHT
BEGIN:STANDARD
TZOFFSETFROM:+0200
TZOFFSETTO:+0100
TZNAME:CET
DTSTART:20151025T010000
END:STANDARD
END:VTIMEZONE
BEGIN:VEVENT
DTSTART;TZID="Europe/Luxembourg":20150529T200000
DTEND;TZID="Europe/Luxembourg":20150529T200000
DTSTAMP:20200426T232854
CREATED:20150522T093850Z
LAST-MODIFIED:20150615T180909Z
UID:1631-1432929600-1432929600@itgl.lu
SUMMARY:Repas mensuel ANT
DESCRIPTION:Les repas mensuels de l’Association Nationale Transgenre ( ANT ) ont lieu à Nancy. \nPour toute information\, contacter : secretariat.national@ant-france.eu \nAssiciation Nationale Transgenre \n
URL:https://itgl.lu/event/repas-mensuel-ant/
LOCATION:Restaurant Le San Lorenzo\, 1\, rue des Carmes\, Nancy\, 54000\, Frankreich
CATEGORIES:External event
ORGANIZER;CN="Association%20Nationale%20Transgenre%20-%20ANT":MAILTO:secretariat.national@ant-france.eu
END:VEVENT
END:VCALENDAR