BEGIN:VCALENDAR
VERSION:2.0
PRODID:-//ITGL - ECPv4.8.2//NONSGML v1.0//EN
CALSCALE:GREGORIAN
METHOD:PUBLISH
X-WR-CALNAME:ITGL
X-ORIGINAL-URL:https://itgl.lu
X-WR-CALDESC:Veranstaltungen im ITGL
BEGIN:VEVENT
DTSTART;TZID=Europe/Luxembourg:20150505T193000
DTEND;TZID=Europe/Luxembourg:20150505T193000
DTSTAMP:20190823T152943
CREATED:20150409T144124Z
LAST-MODIFIED:20150503T102026Z
UID:126-1430854200-1430854200@itgl.lu
SUMMARY:Normierte Kinder ( Miesdref )
DESCRIPTION:D’Chancëgläichheetskommissioun vu Miersch an d’Mierscher Lieshaus an Zesummenaarbecht mat der Gemeng\nTransidentiäten\, Intergeschlechtlichkeiten\, Gender überall? Wenn wir Geschlechternormen in Frage stellen\, brauchen wir dazu die richtigen Instrumente: Das ist zum einen die Einsicht\, dass unsere Geschlechterbilder gesellschaftlich gemacht\, und deshalb auch veränderbar sind\, und zum anderen eine Sprache\, die neue Vorstellungen sichtbar und kommunizierbar macht. \nInwiefern kann Erziehung von frühester Kindheit an der existierenden Vielfalt und dem Anspruch gesellschaftlicher Gleichberechtigung sowie Chancengleichheit gerecht werden? Oftmals rufen Kinder\, wenn sie sich den gängigen binären Geschlechternormen „weiblich“ oder „männlich“ entziehen\, bei ihrem Gegenüber Irritation\, Unsicherheit\, aber auch Ablehnung oder Abwehr hervor. Welche Herangehensweise dient Kindern und ihren Familien im Sinne des Kindeswohls? \nDr. Erik Schneider und Prof. Dr. Christel Baltes-Löhr\, die zuletzt den Band Normierte Kinder  herausgegeben haben\, führen in zwei kurzen Vorträgen ins Thema ein. Im Anschluss diskutieren die Referent_ innen mit eingeladenen Gästen über den Alltag in Familie und Schule. \nChristel Baltes-Löhr (Prof. Dr.) ist Genderbeauftragte der Universität Luxemburg und Leiterin des Institutes für Geschlechterforschung\, Diversität und Migration. \nErik Schneider (Dr. med.) ist Psychiater und Psychotherapeut und in Luxemburg freiberuflich in den Bereichen Medizin\, Recht und Ethik tätig. \nEinladung \n \nNormierte Kinder – Transcript Verlag \n\n \nNormed Children – Transcript Editions \n\n  \n\n
URL:https://itgl.lu/event/normierte-kinder-2/
LOCATION:Veräinshaus Miesdref\, 14\, rue d'Ettelbrück\, Moesdorf\, L-7462\, Luxemburg
CATEGORIES:Öffentlicher Vortrag
END:VEVENT
END:VCALENDAR