BEGIN:VCALENDAR
VERSION:2.0
PRODID:-//ITGL - ECPv4.8.2//NONSGML v1.0//EN
CALSCALE:GREGORIAN
METHOD:PUBLISH
X-WR-CALNAME:ITGL
X-ORIGINAL-URL:https://itgl.lu
X-WR-CALDESC:Veranstaltungen im ITGL
BEGIN:VEVENT
DTSTART;TZID=UTC+2:20190702T160000
DTEND;TZID=UTC+2:20190702T180000
DTSTAMP:20190823T152241
CREATED:20180729T114225Z
LAST-MODIFIED:20180729T114225Z
UID:3385-1562083200-1562090400@itgl.lu
SUMMARY:Jugendgruppe
DESCRIPTION:Treffen der Jugendgruppe im CePAS \n
URL:https://itgl.lu/event/jugendgruppe-42/
LOCATION:Centre psycho-social et d’accompagnement scolaires ( CePAS )\, 58\, boulevard Grand-Duchesse Charlotte\, Luxembourg\, L-1330\, Luxemburg
CATEGORIES:Jugendgruppe
END:VEVENT
END:VCALENDAR