BEGIN:VCALENDAR
VERSION:2.0
PRODID:-//ITGL - ECPv4.9.8//NONSGML v1.0//EN
CALSCALE:GREGORIAN
METHOD:PUBLISH
X-WR-CALNAME:ITGL
X-ORIGINAL-URL:https://itgl.lu
X-WR-CALDESC:Veranstaltungen im ITGL
BEGIN:VTIMEZONE
TZID:Europe/Luxembourg
BEGIN:DAYLIGHT
TZOFFSETFROM:+0100
TZOFFSETTO:+0200
TZNAME:CEST
DTSTART:20150329T010000
END:DAYLIGHT
BEGIN:STANDARD
TZOFFSETFROM:+0200
TZOFFSETTO:+0100
TZNAME:CET
DTSTART:20151025T010000
END:STANDARD
END:VTIMEZONE
BEGIN:VEVENT
DTSTART;TZID="Europe/Luxembourg":20150618T160000
DTEND;TZID="Europe/Luxembourg":20150618T180000
DTSTAMP:20200426T233138
CREATED:20150409T153243Z
LAST-MODIFIED:20150429T121647Z
UID:140-1434643200-1434650400@itgl.lu
SUMMARY:Jugendgruppe
DESCRIPTION:Treffen der Jugendgruppe im CPOS \n
URL:https://itgl.lu/event/jugendgruppe-3/
LOCATION:Centre psycho-social et d’accompagnement scolaires ( CePAS )\, 58\, boulevard Grand-Duchesse Charlotte\, Luxembourg\, L-1330\, Luxemburg
CATEGORIES:Jugendgruppe
END:VEVENT
END:VCALENDAR