BEGIN:VCALENDAR
VERSION:2.0
PRODID:-//ITGL - ECPv5.6.0//NONSGML v1.0//EN
CALSCALE:GREGORIAN
METHOD:PUBLISH
X-WR-CALNAME:ITGL
X-ORIGINAL-URL:https://itgl.lu
X-WR-CALDESC:Veranstaltungen für ITGL
BEGIN:VTIMEZONE
TZID:Europe/Helsinki
BEGIN:DAYLIGHT
TZOFFSETFROM:+0200
TZOFFSETTO:+0300
TZNAME:EEST
DTSTART:20160327T010000
END:DAYLIGHT
BEGIN:STANDARD
TZOFFSETFROM:+0300
TZOFFSETTO:+0200
TZNAME:EET
DTSTART:20161030T010000
END:STANDARD
END:VTIMEZONE
BEGIN:VEVENT
DTSTART;TZID=Europe/Helsinki:20160614T160000
DTEND;TZID=Europe/Helsinki:20160614T180000
DTSTAMP:20211009T070419
CREATED:20160220T142418Z
LAST-MODIFIED:20160220T142418Z
UID:2275-1465920000-1465927200@itgl.lu
SUMMARY:Jugendgruppe
DESCRIPTION:Treffen der Jugendgruppe im CPOS
URL:https://itgl.lu/event/jugendgruppe-11/
LOCATION:Centre psycho-social et d’accompagnement scolaires ( CePAS )\, 58\, boulevard Grand-Duchesse Charlotte\, Luxembourg\, L-1330\, Luxemburg
CATEGORIES:Jugendgruppe
END:VEVENT
END:VCALENDAR