BEGIN:VCALENDAR
VERSION:2.0
PRODID:-//ITGL - ECPv4.9.8//NONSGML v1.0//EN
CALSCALE:GREGORIAN
METHOD:PUBLISH
X-WR-CALNAME:ITGL
X-ORIGINAL-URL:https://itgl.lu
X-WR-CALDESC:Veranstaltungen im ITGL
BEGIN:VTIMEZONE
TZID:Europe/Luxembourg
BEGIN:DAYLIGHT
TZOFFSETFROM:+0100
TZOFFSETTO:+0200
TZNAME:CEST
DTSTART:20160327T010000
END:DAYLIGHT
BEGIN:STANDARD
TZOFFSETFROM:+0200
TZOFFSETTO:+0100
TZNAME:CET
DTSTART:20161030T010000
END:STANDARD
END:VTIMEZONE
BEGIN:VEVENT
DTSTART;TZID="Europe/Luxembourg":20161108T140000
DTEND;TZID="Europe/Luxembourg":20161108T173000
DTSTAMP:20200426T231149
CREATED:20161205T193058Z
LAST-MODIFIED:20161205T193058Z
UID:2865-1478613600-1478626200@itgl.lu
SUMMARY:ifen - Ein Mädchen ist ein Mädchen ist ein Mädchen ist ein Mädchen – Geschlechterdiversität in der Grundschule
DESCRIPTION:  \nKinder\, die sich nicht so empfinden\, wie es ihr Zuweisungsgeschlecht gemäß der derzeit geltenden\, westlichen Geschlechternormen erwarten lässt\, stellen Professionelle aller Berufsgruppen vor Fragen und Herausforderungen. Dies gilt auch für jene in der Grundschule Tätige. \nManche von ihnen stellen sich die Frage\, ob eine soziale Transition in diesem Alter für ein Kind gut sein kann\, andere fragen sich vielleicht\, ob ein Kind reif genug sein kann\, eine derartige Entscheidung zu fällen. Auch kann es sein\, dass Eltern anderer Kinder an Lehrpersonal herantreten\, weil sie erstaunt sind\, dass z.B. ein als Junge zugewiesenes Kind sich wie die anderen Mädchen verhält und die entsprechenden geschlechtssegregierten Räume nutzt. \nIn der Weiterbildung soll es neben einer Einführung in die Thematik vor allem um die Beantwortung aufgeworfener Fragen gehen wie auch um die Klärung der Frage\, was im besten Interesse eines Kindes liegt\, das mit seinem geschlechtlichen Sein nicht den Geschlechternormen entspricht. Es werden Umgangsmöglichkeiten und Herangehensweisen und ihre Einflüsse auf alle Schulkinder sowie ihre jeweiligen Fragen und Herausforderungen vorgestellt und diskutiert. \nNeben der Informationsvermittlung steht zudem der interkollegiale Austausch wie auch jener mit einem Elternteil eines minderjährigen Kindes von der Elterngruppe des Vereins Intersex & Transgender Luxembourg im Vordergrund. \nTermin\, Ort\, Anmeldung sowie weitere Infos \nOrdre/s d’enseignement : C1\, C2-C4\nPublic cible : An der Ecole fondamentale in Käerch tätiges Lehrpersonal\, Educateurs/-trices gradué.e.s\, Schulpsycholog_innen und weitere in dieser Schule tätige Professionelle. \n
URL:https://itgl.lu/event/ifen-ein-maedchen-ist-ein-maedchen-ist-ein-maedchen-ist-ein-maedchen-geschlechterdiversitaet-in-der-grundschule/
CATEGORIES:Ausbildung
END:VEVENT
END:VCALENDAR