BEGIN:VCALENDAR
VERSION:2.0
PRODID:-//ITGL - ECPv5.6.0//NONSGML v1.0//EN
CALSCALE:GREGORIAN
METHOD:PUBLISH
X-WR-CALNAME:ITGL
X-ORIGINAL-URL:https://itgl.lu
X-WR-CALDESC:Veranstaltungen für ITGL
BEGIN:VTIMEZONE
TZID:Europe/Luxembourg
BEGIN:DAYLIGHT
TZOFFSETFROM:+0100
TZOFFSETTO:+0200
TZNAME:CEST
DTSTART:20160327T010000
END:DAYLIGHT
BEGIN:STANDARD
TZOFFSETFROM:+0200
TZOFFSETTO:+0100
TZNAME:CET
DTSTART:20161030T010000
END:STANDARD
END:VTIMEZONE
BEGIN:VEVENT
DTSTART;TZID=Europe/Luxembourg:20161026T101500
DTEND;TZID=Europe/Luxembourg:20161026T121500
DTSTAMP:20211008T192911
CREATED:20161025T114306Z
LAST-MODIFIED:20161025T120000Z
UID:2615-1477476900-1477484100@itgl.lu
SUMMARY:Gebuer am falschen Kierper – Transgender sinn zu Lëtzebuerg – Kanner\, Jugendlecher a Famillen
DESCRIPTION:Menschen\, die nicht den derzeit geltenden Geschlechternormen entsprechen\, hat es immer gegeben\, und es gibt sie heute noch. Somit sind sie mitten unter uns als Kolleg_innen\, Kund_innen\, mit unseren Kindern\, in Kindergärten\, Schulen\, auf den Spielplätzen – kurz überall. Manchmal glauben wir\, sie erkennen zu können\, oftmals täuschen wir uns jedoch. Wie stellt sich das Leben aus ihrer Sicht dar? Als Mitbürger_in der Stadt Luxemburg? Als Schulkind? Als Nachbar_in? Was sind ihre Fragen\, ihre Bedürfnisse\, ihre Probleme? Welche Probleme lassen sich durch ein menschliches Miteinander\, durch einen professionellen Umgang vermeiden oder lösen? Wie sieht ein ethischer Umgang mit Menschen aus\, die die Normen der Zweigeschlechtlichkeit überschreiten bzw. diesen nicht entsprechen? Wie sind Diskriminierungen zu verhindern\, zu erkennen und wie ist ihnen zu begegnen? Wie kann Inklusion erfolgreich durchgeführt werden? Diese und andere Fragen können bei der Fortbildung zum Thema Geschlechterdiversität gestellt und mögliche Lösungen gesucht und diskutiert werden. Der Respekt vor der geschlechtlichen Selbstbestimmung stellt einen zentralen Aspekt der Fortbildung dar. \nDas komplette Programm finden Sie hier.
URL:https://itgl.lu/event/gebuer-am-falschen-kierper-transgender-sinn-zu-le%cc%88tzebuerg-kanner-jugendlecher-a-famillen/
LOCATION:Centre Culturel de Bonnevoie\, 2\, rue des Ardennes\, Luxembourg\, L-1133\, Luxemburg
CATEGORIES:Ausbildung
END:VEVENT
END:VCALENDAR