BEGIN:VCALENDAR
VERSION:2.0
PRODID:-//ITGL - ECPv4.9.8//NONSGML v1.0//EN
CALSCALE:GREGORIAN
METHOD:PUBLISH
X-WR-CALNAME:ITGL
X-ORIGINAL-URL:https://itgl.lu
X-WR-CALDESC:Veranstaltungen im ITGL
BEGIN:VTIMEZONE
TZID:Europe/Helsinki
BEGIN:DAYLIGHT
TZOFFSETFROM:+0200
TZOFFSETTO:+0300
TZNAME:EEST
DTSTART:20180325T010000
END:DAYLIGHT
BEGIN:STANDARD
TZOFFSETFROM:+0300
TZOFFSETTO:+0200
TZNAME:EET
DTSTART:20181028T010000
END:STANDARD
END:VTIMEZONE
BEGIN:VEVENT
DTSTART;TZID="Europe/Helsinki":20180516T160000
DTEND;TZID="Europe/Helsinki":20180516T180000
DTSTAMP:20200126T090114
CREATED:20171220T134551Z
LAST-MODIFIED:20171220T134551Z
UID:3199-1526486400-1526493600@itgl.lu
SUMMARY:Elterngruppe
DESCRIPTION:Treffen der Elterngruppe im CePAS \n
URL:https://itgl.lu/event/elterngruppe-24-2-2-2-2-2-2/
LOCATION:Centre psycho-social et d’accompagnement scolaires ( CePAS )\, 58\, boulevard Grand-Duchesse Charlotte\, Luxembourg\, L-1330\, Luxemburg
CATEGORIES:Elterngruppe
END:VEVENT
END:VCALENDAR