BEGIN:VCALENDAR
VERSION:2.0
PRODID:-//ITGL - ECPv5.6.0//NONSGML v1.0//EN
CALSCALE:GREGORIAN
METHOD:PUBLISH
X-WR-CALNAME:ITGL
X-ORIGINAL-URL:http://itgl.lu
X-WR-CALDESC:Veranstaltungen für ITGL
BEGIN:VTIMEZONE
TZID:Europe/Luxembourg
BEGIN:DAYLIGHT
TZOFFSETFROM:+0100
TZOFFSETTO:+0200
TZNAME:CEST
DTSTART:20170326T010000
END:DAYLIGHT
BEGIN:STANDARD
TZOFFSETFROM:+0200
TZOFFSETTO:+0100
TZNAME:CET
DTSTART:20171029T010000
END:STANDARD
END:VTIMEZONE
BEGIN:VEVENT
DTSTART;TZID=Europe/Luxembourg:20170304T120000
DTEND;TZID=Europe/Luxembourg:20170304T200000
DTSTAMP:20211008T035926
CREATED:20170303T101326Z
LAST-MODIFIED:20170303T102623Z
UID:2998-1488628800-1488657600@itgl.lu
SUMMARY:Festival des migrations\, des cultures et de la citoyenneté
DESCRIPTION:Festival des migrations\, des cultures et de la citoyenneté. \nNous sommes présents avec notre stand 62\, hall 2. \n 
URL:http://itgl.lu/event/festival-des-migrations-des-cultures-et-de-la-citoyennete/
LOCATION:Luxexpo\, 10 Circuit de La Foire Internationale\, Luxembourg\, 1347\, Luxemburg
CATEGORIES:External event
END:VEVENT
END:VCALENDAR